BEGIN:VCALENDAR
VERSION:2.0
PRODID:-//Institute of Statistical Research and Training - ECPv6.15.20//NONSGML v1.0//EN
CALSCALE:GREGORIAN
METHOD:PUBLISH
X-ORIGINAL-URL:https://isrt.ac.bd
X-WR-CALDESC:Events for Institute of Statistical Research and Training
REFRESH-INTERVAL;VALUE=DURATION:PT1H
X-Robots-Tag:noindex
X-PUBLISHED-TTL:PT1H
BEGIN:VTIMEZONE
TZID:UTC
BEGIN:STANDARD
TZOFFSETFROM:+0000
TZOFFSETTO:+0000
TZNAME:UTC
DTSTART:20250101T000000
END:STANDARD
END:VTIMEZONE
BEGIN:VEVENT
DTSTART;TZID=UTC:20260410T150000
DTEND;TZID=UTC:20260514T213000
DTSTAMP:20260423T235211
CREATED:20250512T170620Z
LAST-MODIFIED:20260408T052830Z
UID:7859-1775833200-1778794200@isrt.ac.bd
SUMMARY:R for Applied Statistics and Data Science 2026
DESCRIPTION:The upcoming R training program starts on April 10\, 2026.\nFollow the website for details: https://isrt.ac.bd/training/r/
URL:https://isrt.ac.bd/event/r-for-applied-statistics-and-data-science-2025/
LOCATION:ISRT\, ISRT\, University of Dhaka\, Dhaka\, Bangladesh
END:VEVENT
END:VCALENDAR