BEGIN:VCALENDAR
VERSION:2.0
PRODID:-//Institute of Statistical Research and Training - ECPv6.15.20//NONSGML v1.0//EN
CALSCALE:GREGORIAN
METHOD:PUBLISH
X-ORIGINAL-URL:https://isrt.ac.bd
X-WR-CALDESC:Events for Institute of Statistical Research and Training
REFRESH-INTERVAL;VALUE=DURATION:PT1H
X-Robots-Tag:noindex
X-PUBLISHED-TTL:PT1H
BEGIN:VTIMEZONE
TZID:UTC
BEGIN:STANDARD
TZOFFSETFROM:+0000
TZOFFSETTO:+0000
TZNAME:UTC
DTSTART:20180101T000000
END:STANDARD
END:VTIMEZONE
BEGIN:VEVENT
DTSTART;TZID=UTC:20250730T103000
DTEND;TZID=UTC:20250730T120000
DTSTAMP:20260424T094028
CREATED:20250730T152011Z
LAST-MODIFIED:20250730T152011Z
UID:8071-1753871400-1753876800@isrt.ac.bd
SUMMARY:128th Birth Anniversary of Qazi Motahar Husain
DESCRIPTION:This is a reminder to attend the program being organized jointly with the Department of Statistics in memory of the Late Professor Qazi Motahar Husain at the TSC tomorrow at 10:30 a.m. The program will be attended by the Honorable Vice-Chancellor\, DU\, as the Chief Guest. Professor Husain was a leading proponent of statistical education and research in Bangladesh and the founder Director of ISRT.  Furthermore\, students who have excelled in their B.S. and M.S. examinations will be awarded by the  Qazi Motahar Husain Foundation.
URL:https://isrt.ac.bd/event/128th-birth-anniversary-of-qazi-motahar-husain/
LOCATION:TSC\, Bangladesh
CATEGORIES:other
END:VEVENT
BEGIN:VEVENT
DTSTART;TZID=UTC:20250727T080000
DTEND;TZID=UTC:20250727T170000
DTSTAMP:20260424T094028
CREATED:20250704T125422Z
LAST-MODIFIED:20250704T125949Z
UID:7991-1753603200-1753635600@isrt.ac.bd
SUMMARY:M.S. Admission Test is on July 27\, 2025
DESCRIPTION:Details are given on the MS admission site https://isrt.ac.bd/academics/admission
URL:https://isrt.ac.bd/event/ms-admission2025/
LOCATION:ISRT\, ISRT\, University of Dhaka\, Dhaka\, Bangladesh
CATEGORIES:other
END:VEVENT
BEGIN:VEVENT
DTSTART;TZID=UTC:20250702T100000
DTEND;TZID=UTC:20250702T110000
DTSTAMP:20260424T094028
CREATED:20250701T091824Z
LAST-MODIFIED:20250703T064954Z
UID:7941-1751450400-1751454000@isrt.ac.bd
SUMMARY:Orientation of first-year students for the 2024-25
DESCRIPTION:The orientation of first-year students for the 2024-25 academic session will be tomorrow (Wednesday\, July 2) at 10:00 a.m. The program will take place in the ISRT seminar room.
URL:https://isrt.ac.bd/event/orientation-of-first-year-students-for-the-2024-25/
LOCATION:ISRT Seminar Room (3rd floor)\, Institute of Statistical Research and Training\, University of Dhaka\, Dhaka\, Please Select\, 1000\, Bangladesh
CATEGORIES:other
END:VEVENT
BEGIN:VEVENT
DTSTART;VALUE=DATE:20240211
DTEND;VALUE=DATE:20240212
DTSTAMP:20260424T094028
CREATED:20240109T051730Z
LAST-MODIFIED:20240109T051730Z
UID:6403-1707609600-1707695999@isrt.ac.bd
SUMMARY:Research Publication Fair to be held on February 11\, 2024 at the IBA premises
DESCRIPTION:The Institutes of the University of Dhaka will be participating in a day-long Research Publication Fair to be held on February 11\, 2024 at the IBA premises. This year\, ISRT is responsible for organizing the fair.
URL:https://isrt.ac.bd/event/research-publication-fair-to-be-held-on-february-11-2024-at-the-iba-premises/
LOCATION:IBA
CATEGORIES:other
ATTACH;FMTTYPE=image/png:https://isrt.ac.bd/wp-content/uploads/2024/01/Screen-Shot-2024-01-09-at-10.47.42-AM.png
END:VEVENT
BEGIN:VEVENT
DTSTART;VALUE=DATE:20240127
DTEND;VALUE=DATE:20240128
DTSTAMP:20260424T094028
CREATED:20240121T131531Z
LAST-MODIFIED:20240121T132327Z
UID:6420-1706313600-1706399999@isrt.ac.bd
SUMMARY:R-fest on January 27 (Saturday) at ISRT
DESCRIPTION:ISRT will organize an R–fest on January 27 (Saturday) at ISRT. It will be a day-long program. Second-year students (Batch 28) will present their R project works at the festival. The presentations would be related to R or statistical computing in general. It will be a short presentation\, not more than 15 minutes.
URL:https://isrt.ac.bd/event/r-fest-on-january-27-saturday-at-isrt/
CATEGORIES:other
ATTACH;FMTTYPE=image/png:https://isrt.ac.bd/wp-content/uploads/2024/01/R-FEST-Social-Media-2-e1705843385644.png
END:VEVENT
BEGIN:VEVENT
DTSTART;TZID=UTC:20240118T080000
DTEND;TZID=UTC:20240118T113000
DTSTAMP:20260424T094028
CREATED:20240117T091316Z
LAST-MODIFIED:20240117T091316Z
UID:6413-1705564800-1705577400@isrt.ac.bd
SUMMARY:First Match of the Inter-department Cricket Tournament\, 2023-24 is on January 18\, 2024
DESCRIPTION:ISRT Cricket Team is going to play its first match in the inter-department cricket tournament tomorrow at 8:30 AM. The opponent is the Department of Clinical Pharmacy & Pharmacology.
URL:https://isrt.ac.bd/event/first-match-of-the-inter-department-cricket-tournament-2023-24-is-on-january-18-2024/
CATEGORIES:other
END:VEVENT
BEGIN:VEVENT
DTSTART;TZID=UTC:20231206T123000
DTEND;TZID=UTC:20231206T133000
DTSTAMP:20260424T094028
CREATED:20231203T134558Z
LAST-MODIFIED:20231203T134558Z
UID:6308-1701865800-1701869400@isrt.ac.bd
SUMMARY:The ISRT Golden Jubilee Award is on Dec 06
DESCRIPTION:Every year ISRT selects a student to receive the prestigious ISRT Golden Jubilee Award for outstanding performance in the B.S. (Hons.) program. This year\, Md. Muhitul Alam and Md. Abdullah Al Fahim of Session 2021-22\, have been jointly nominated to receive this award.\n\nThe award-giving ceremony will take place on Wednesday\, December 6\, 2023\, in the ISRT seminar room at 12:30 p.m. Professor Dr. A. S. M. Maksud Kamal\, Honorable Vice Chancellor\, University of Dhaka\, has given his kind consent to attend the program as Chief Guest and Professor Dr. Md. Abdus Samad\, Dean\, Faculty of Science will join the program as Special Guest. You are welcome to attend the ceremony to congratulate the awardees and make the program successful.
URL:https://isrt.ac.bd/event/the-isrt-golden-jubilee-award-is-on-dec-06/
LOCATION:ISRT Seminar Room (3rd floor)\, Institute of Statistical Research and Training\, University of Dhaka\, Dhaka\, Please Select\, 1000\, Bangladesh
CATEGORIES:other
ATTACH;FMTTYPE=image/jpeg:https://isrt.ac.bd/wp-content/uploads/2023/12/PHOTO-2023-12-03-19-36-28.jpg
END:VEVENT
BEGIN:VEVENT
DTSTART;TZID=UTC:20230717T140000
DTEND;TZID=UTC:20230717T160000
DTSTAMP:20260424T094028
CREATED:20230716T142035Z
LAST-MODIFIED:20230716T142142Z
UID:5863-1689602400-1689609600@isrt.ac.bd
SUMMARY:Second football match of ISRT is against the Department of Marketing on July 17\, 2023
DESCRIPTION:The second football match of ISRT will take place tomorrow! The opponent is the Department of Marketing.\n \nTime: 17 July 2023\, 2:00 PM Venue: DU Central Field
URL:https://isrt.ac.bd/event/second-football-match-of-isrt-is-against-the-department-of-marketing-on-july-17-2023/
CATEGORIES:other
END:VEVENT
BEGIN:VEVENT
DTSTART;TZID=UTC:20230710T163000
DTEND;TZID=UTC:20230710T173000
DTSTAMP:20260424T094028
CREATED:20230709T161054Z
LAST-MODIFIED:20230709T161054Z
UID:5834-1689006600-1689010200@isrt.ac.bd
SUMMARY:First match of ISRT in inter-department football tournament 2023 is on Monday\, 10 July 2023 at 4:45 PM
DESCRIPTION:ISRT is delighted to announce that the ISRT football team is going to play the first match in the inter-department football tournament 2023 on Monday\, 10 July 2023 at 4:45 PM. Opponent is the department of peace and conflict studies. The match will be held at the central ground field of the university.
URL:https://isrt.ac.bd/event/first-match-of-isrt-in-inter-department-football-tournament-2023-is-on-monday-10-july-2023-at-445-pm/
CATEGORIES:other
END:VEVENT
BEGIN:VEVENT
DTSTART;TZID=UTC:20230218T080000
DTEND;TZID=UTC:20230218T180000
DTSTAMP:20260424T094028
CREATED:20230202T184900Z
LAST-MODIFIED:20230202T185005Z
UID:5588-1676707200-1676743200@isrt.ac.bd
SUMMARY:ISRT Alumni (ISRTAA) Reunion 2023 is on 18 February\, 2023
DESCRIPTION:ISRT Alumni (ISRTAA) Reunion 2023 will occur on February 18\, 2023\, on ISRT premises. All graduates are encouraged to attend the event. Details of the reunion event can be found on the website https://isrtalumni.org/reunion2023 and the reunion registration site (http://isrtalumni.org/reunion2023/reunion-2023-registration).
URL:https://isrt.ac.bd/event/isrt-alumni-isrtaa-reunion-2023/
CATEGORIES:other
ATTACH;FMTTYPE=image/jpeg:https://isrt.ac.bd/wp-content/uploads/2023/02/Final-version-of-ISRTAA-Reunion-2023-Flyer.jpg
END:VEVENT
BEGIN:VEVENT
DTSTART;TZID=UTC:20221227T080000
DTEND;TZID=UTC:20221227T110000
DTSTAMP:20260424T094028
CREATED:20221226T054313Z
LAST-MODIFIED:20221226T054313Z
UID:5513-1672128000-1672138800@isrt.ac.bd
SUMMARY:Inter-department Cricket Match against Pharmacy Department on 27 December 2022 (Tuesday) at 8.30 am
DESCRIPTION:We are pleased to announce that the ISRT cricket team will play against the Department of Pharmacy on 27 December 2022 (Tuesday) at 8.30 am in the university’s central playground.
URL:https://isrt.ac.bd/event/inter-department-cricket-match-against-pharmacy-department-on-27-december-2022-tuesday-at-8-30-am/
CATEGORIES:other
END:VEVENT
BEGIN:VEVENT
DTSTART;TZID=UTC:20221012T090000
DTEND;TZID=UTC:20221012T100000
DTSTAMP:20260424T094028
CREATED:20221011T162333Z
LAST-MODIFIED:20221011T162450Z
UID:5401-1665565200-1665568800@isrt.ac.bd
SUMMARY:A farewell program for Prof. Dr. Sekandar Hayat Khan
DESCRIPTION:A farewell program for Prof. Dr. Sekandar Hayat Khan sir will be held at 9.00 am tomorrow (Wednesday\, Oct 12\, 2022) in the ISRT Seminar Room. \nProf. Dr. A.S.M.  Maksud Kamal\, Pro-Vice-Chancellor (Academic)\, will join the event as the chief guest. You are cordially invited to join the program. \n 
URL:https://isrt.ac.bd/event/5401/
LOCATION:ISRT Seminar Room (3rd floor)\, Institute of Statistical Research and Training\, University of Dhaka\, Dhaka\, Please Select\, 1000\, Bangladesh
CATEGORIES:other
ATTACH;FMTTYPE=image/png:https://isrt.ac.bd/wp-content/uploads/2022/10/Screen-Shot-2022-10-11-at-10.19.50-PM.png
END:VEVENT
BEGIN:VEVENT
DTSTART;TZID=UTC:20220827T170000
DTEND;TZID=UTC:20220827T183000
DTSTAMP:20260424T094028
CREATED:20220827T113632Z
LAST-MODIFIED:20220827T113632Z
UID:5336-1661619600-1661625000@isrt.ac.bd
SUMMARY:Inter department football match on 28 August 2022: ISRT versus Department of Mathematics
DESCRIPTION:We are delighted to let you know that our second match in the inter-department football tournament 2022 will take place tomorrow (Sunday\, 28 August 2022) at 5:00 pm at the central field of the university. This time the opponent is the Department of Mathematics.
URL:https://isrt.ac.bd/event/inter-department-football-match-on-28-august-2022-isrt-versus-department-of-mathematics/
CATEGORIES:other
END:VEVENT
BEGIN:VEVENT
DTSTART;TZID=UTC:20210410T100000
DTEND;TZID=UTC:20210410T120000
DTSTAMP:20260424T094028
CREATED:20210410T051249Z
LAST-MODIFIED:20210410T051249Z
UID:4734-1618048800-1618056000@isrt.ac.bd
SUMMARY:An Introduction to R Shiny Application
DESCRIPTION:R Shiny is a platform which allows to utilize all the features of R programming for creating an interactive web application (App). Web application development is recently becoming popular due to several respects. For instance\, the interactive nature of a web application allows us to visualize and/or analyze real-time (or dynamic) data. Popular examples include real-time monitoring of utility usage\, online updating of dynamic models\, weather forecasting\, etc. Simple sharing of an R Shiny App via a local or shiny server helps disseminate our work to a larger audience\, which can eventually improve the impact of the work. We can also use R Shiny App as an attractive tool for educational and teaching purposes. \nThe goal of this workshop is to teach the basic skeleton of developing an R Shiny App. Knowledge about R is preferred\, however\, basic programming knowledge would be okay to participate in this workshop. This workshop will show the basic syntax structure and will demonstrate reproducible examples of R Shiny Apps. At the end of the workshop\, an example of our recent development will be displayed with the audience. \n  \nResource Person’s Biography: \nMd. Tuhin Sheikh is a Lecturer of Applied Statistics at the University of Dhaka. Currently\, he is pursuing his Ph.D. in Statistics at the University of Connecticut (UConn). He worked as a Biostatistics and Data Science Intern at the Boehringer Ingelheim in Summer 2020. His research areas of interest include competing risks survival data\, Bayesian computation\, joint modelling of longitudinal and survival data\, model assessment\, interim analysis\, deep neural network\, etc. He has experience as a research assistant with the UNCCH-UConn research group\, UConn School of Nursing and\, UConn Utility Operations and Energy Management. He has also experience in teaching undergraduate level Statistics courses and conducting workshops at international conferences. He has been awarded for his academic excellence in teaching.
URL:https://isrt.ac.bd/event/an-introduction-to-r-shiny-application/
CATEGORIES:other
END:VEVENT
BEGIN:VEVENT
DTSTART;TZID=UTC:20210323T193000
DTEND;TZID=UTC:20210323T203000
DTSTAMP:20260424T094028
CREATED:20210323T074524Z
LAST-MODIFIED:20210323T102147Z
UID:4701-1616527800-1616531400@isrt.ac.bd
SUMMARY:ISRT Golden Jubilee Gold Award Program at 7.30PM Tuesday\, March 23\,2021
DESCRIPTION:The ISRT Golden Jubilee Gold Medal Award program\, 2020 scheduled to be held on March 23\, 2021 (Tuesday) at 7:30 pm online with the zoom. The awardee is Md. Rasel Biswas session 2018-2019 (Batch 22). Professor Dr. A. S. M. Maksud Kamal\, Pro-Vice-Chancellor (Academic)\, University of Dhaka has given kind consent to attend the program as chief guest.  \n  \nGolden jubilee 2020
URL:https://isrt.ac.bd/event/isrt-golden-jubilee-gold-award-program-at-7-30pm-tuesday-march-232021/
CATEGORIES:other
END:VEVENT
BEGIN:VEVENT
DTSTART;TZID=UTC:20201231T190000
DTEND;TZID=UTC:20201231T210000
DTSTAMP:20260424T094028
CREATED:20201226T163334Z
LAST-MODIFIED:20201226T163444Z
UID:4582-1609441200-1609448400@isrt.ac.bd
SUMMARY:Condolence meeting and Dua event
DESCRIPTION:On the sad demise of QM Husain Professor Ataharul Islam\, the ISRT family is going to organize a “Condolence meeting and Dua event” online on Thursday\, Dec 31\, 2020 at 7.00PM through Zoom Platform given below. The family member of Prof. Ataharul Islam sir has given their kind consent to attend this program.\n\nYou are cordially invited to join the program and share your condolences on the passing of the great statistician.\n\n\nZOOM LINK: https://bdren.zoom.us/j/62057546037
URL:https://isrt.ac.bd/event/condolence-meeting-and-dua-event/
CATEGORIES:other
ATTACH;FMTTYPE=image/jpeg:https://isrt.ac.bd/wp-content/uploads/2020/12/Atahar-sir.jpg
END:VEVENT
BEGIN:VEVENT
DTSTART;TZID=UTC:20200213T093000
DTEND;TZID=UTC:20200213T130000
DTSTAMP:20260424T094028
CREATED:20200210T064733Z
LAST-MODIFIED:20200210T064733Z
UID:4155-1581586200-1581598800@isrt.ac.bd
SUMMARY:Photography exhibition and competition on 13 February 2020 (Thursday)
DESCRIPTION:ISRT Student Club is organizing a Photography Competition and Exhibition on the theme ‘Exploring Bangladesh’. Both the students and faculty members of ISRT can take part in the exhibition.  \nTime and Venue: 9:30 am\, ISRT premise
URL:https://isrt.ac.bd/event/photography-exhibition-and-competition-on-13-february-2020-thursday/
CATEGORIES:other
END:VEVENT
BEGIN:VEVENT
DTSTART;TZID=UTC:20200211T140000
DTEND;TZID=UTC:20200211T170000
DTSTAMP:20260424T094028
CREATED:20200210T064158Z
LAST-MODIFIED:20200210T064158Z
UID:4152-1581429600-1581440400@isrt.ac.bd
SUMMARY:Public Speaking Competition for students on 11 February 2020 (Tuesday)
DESCRIPTION:Public Speaking Competition \nTime and venue: 2:00 pm\, ISRT Seminar Room \nOrganized by ISRT student club
URL:https://isrt.ac.bd/event/public-speaking-competition-for-students-on-11-february-2020-tuesday/
CATEGORIES:other
END:VEVENT
BEGIN:VEVENT
DTSTART;TZID=UTC:20190212T073000
DTEND;TZID=UTC:20190212T190000
DTSTAMP:20260424T094028
CREATED:20190206T122827Z
LAST-MODIFIED:20190206T122827Z
UID:3071-1549956600-1549998000@isrt.ac.bd
SUMMARY:ISRT Picnic 2019
DESCRIPTION:ISRT annual picnic will be held on February 12\, 2019.
URL:https://isrt.ac.bd/event/isrt-picnic-2019/
CATEGORIES:other
END:VEVENT
END:VCALENDAR