BEGIN:VCALENDAR
VERSION:2.0
PRODID:-//Institute of Statistical Research and Training - ECPv6.15.20//NONSGML v1.0//EN
CALSCALE:GREGORIAN
METHOD:PUBLISH
X-ORIGINAL-URL:https://isrt.ac.bd
X-WR-CALDESC:Events for Institute of Statistical Research and Training
REFRESH-INTERVAL;VALUE=DURATION:PT1H
X-Robots-Tag:noindex
X-PUBLISHED-TTL:PT1H
BEGIN:VTIMEZONE
TZID:UTC
BEGIN:STANDARD
TZOFFSETFROM:+0000
TZOFFSETTO:+0000
TZNAME:UTC
DTSTART:20170101T000000
END:STANDARD
END:VTIMEZONE
BEGIN:VEVENT
DTSTART;TZID=UTC:20241110T180000
DTEND;TZID=UTC:20241201T210000
DTSTAMP:20260425T041407
CREATED:20240915T162436Z
LAST-MODIFIED:20240929T034137Z
UID:7025-1731261600-1733086800@isrt.ac.bd
SUMMARY:Stata for Applied Statistics and Data Science
DESCRIPTION:Details are given at https://isrt.ac.bd/training/stata
URL:https://isrt.ac.bd/event/stata-for-applied-statistics-and-data-science/
LOCATION:ISRT\, ISRT\, University of Dhaka\, Dhaka\, Bangladesh
CATEGORIES:training
END:VEVENT
BEGIN:VEVENT
DTSTART;TZID=UTC:20240927T090000
DTEND;TZID=UTC:20240928T210000
DTSTAMP:20260425T041407
CREATED:20240915T164043Z
LAST-MODIFIED:20240926T031839Z
UID:7036-1727427600-1727557200@isrt.ac.bd
SUMMARY:SPSS Hands-on for Data Science (short training course)
DESCRIPTION:Details are given at https://isrt.ac.bd/training/spss
URL:https://isrt.ac.bd/event/spss-hands-on-for-data-science-short-training-course-2/
LOCATION:ISRT\, ISRT\, University of Dhaka\, Dhaka\, Bangladesh
CATEGORIES:training
END:VEVENT
BEGIN:VEVENT
DTSTART;TZID=UTC:20240808T180000
DTEND;TZID=UTC:20240831T213000
DTSTAMP:20260425T041407
CREATED:20240612T144902Z
LAST-MODIFIED:20240612T151157Z
UID:6768-1723140000-1725139800@isrt.ac.bd
SUMMARY:Stata for Applied Statistics and Data Science training program
DESCRIPTION:Stata for Applied Statistics and Data Science training program. Details on https://isrt.ac.bd/training/stata
URL:https://isrt.ac.bd/event/6768/
CATEGORIES:training
END:VEVENT
BEGIN:VEVENT
DTSTART;TZID=UTC:20240719T100000
DTEND;TZID=UTC:20240720T193000
DTSTAMP:20260425T041407
CREATED:20240612T145921Z
LAST-MODIFIED:20240711T122546Z
UID:6774-1721383200-1721503800@isrt.ac.bd
SUMMARY:SPSS Hands-on for Data Science (short training course)
DESCRIPTION:SPSS Hands-on for Data Science (short training course).\n\nDetails on https://isrt.ac.bd/training/spss \nRegistration form
URL:https://isrt.ac.bd/event/spss-hands-on-for-data-science-short-training-course/
LOCATION:ISRT Seminar Room (3rd floor)\, Institute of Statistical Research and Training\, University of Dhaka\, Dhaka\, Please Select\, 1000\, Bangladesh
CATEGORIES:training
END:VEVENT
BEGIN:VEVENT
DTSTART;TZID=UTC:20240201T150000
DTEND;TZID=UTC:20240302T170000
DTSTAMP:20260425T041407
CREATED:20231130T085225Z
LAST-MODIFIED:20240214T142035Z
UID:6300-1706799600-1709398800@isrt.ac.bd
SUMMARY:'R for Applied Statistics and Data Science' Training Program to start from 01 February 2024
DESCRIPTION:After successfully conducting four training programs on R\, ISRT is now organizing its fifth on-campus (in-person) R for Applied Statistics and Data Science program from February 01\, 2024. Details of the program are available on its webpage: https://www.isrt.ac.bd/training/r/
URL:https://isrt.ac.bd/event/r-for-applied-statistics-and-data-science-training-program-to-start-from-01-february-2024/
CATEGORIES:training
END:VEVENT
BEGIN:VEVENT
DTSTART;TZID=UTC:20230910T170000
DTEND;TZID=UTC:20231003T170000
DTSTAMP:20260425T041407
CREATED:20230811T065741Z
LAST-MODIFIED:20230818T183544Z
UID:5968-1694365200-1696352400@isrt.ac.bd
SUMMARY:Training programs on Applied Statistics for Data Science using SPSS and Stata to begin from September 10\, 2023
DESCRIPTION:The upcoming SPSS and Stata training programs will begin on Septermber 10\, 2023. For further details (program schedule\, registration etc.) please click on the link https://www.isrt.ac.bd/training/spss-and-stata/
URL:https://isrt.ac.bd/event/spss-and-stata-training-programs-to-begin-from-september-10-2023/
CATEGORIES:training
END:VEVENT
BEGIN:VEVENT
DTSTART;TZID=UTC:20210207T180000
DTEND;TZID=UTC:20210307T210000
DTSTAMP:20260425T041407
CREATED:20210104T022254Z
LAST-MODIFIED:20210104T022254Z
UID:4598-1612720800-1615150800@isrt.ac.bd
SUMMARY:R training program (online) starts from February 7\, 2021
DESCRIPTION:The upcoming R training program (online) starts from February 7\, 2021. For further details (program schedule\, registration etc.) please click on the link https://www.isrt.ac.bd/training/r/.
URL:https://isrt.ac.bd/event/r-training-program-online-starts-from-february-7-2021/
CATEGORIES:training
END:VEVENT
BEGIN:VEVENT
DTSTART;TZID=UTC:20210102T180000
DTEND;TZID=UTC:20210202T210000
DTSTAMP:20260425T041407
CREATED:20201129T084833Z
LAST-MODIFIED:20201223T142159Z
UID:4531-1609610400-1612299600@isrt.ac.bd
SUMMARY:SPSS and Stata training programs to start from January 02\, 2021
DESCRIPTION:The upcoming SPSS and Stata training programs will begin on January 02\, 2021. For further details (program schedule\, registration etc.) please click on the link https://www.isrt.ac.bd/training/spss-and-stata/
URL:https://isrt.ac.bd/event/spss-and-stata-training-programs-to-start-on-january-02-2021/
CATEGORIES:training
END:VEVENT
BEGIN:VEVENT
DTSTART;TZID=UTC:20190327T180000
DTEND;TZID=UTC:20190430T210000
DTSTAMP:20260425T041407
CREATED:20190206T123240Z
LAST-MODIFIED:20190206T123240Z
UID:3073-1553709600-1556658000@isrt.ac.bd
SUMMARY:SPSS and Stata training
DESCRIPTION:ISRT offers training programs on Applied Statistics using SPSS and Applied Statistics using Stata on a regular basis. These programs aim at training the participants a basic idea of statistics at the same time elaborating how to interpret the results obtained from SPSS/Stata output. New features of the program include exclusive classes to develop\, discuss and solve practical research problems using large-scale survey data\, and for group presentation of research findings by participants. \nUpcoming program will run during  March 27\, 2019 – April 30\, 2019. For details visit here.
URL:https://isrt.ac.bd/event/spss-and-stata-training/
CATEGORIES:training
END:VEVENT
BEGIN:VEVENT
DTSTART;TZID=UTC:20181016T170000
DTEND;TZID=UTC:20181117T210000
DTSTAMP:20260425T041407
CREATED:20180918T043049Z
LAST-MODIFIED:20181013T190452Z
UID:2777-1539709200-1542488400@isrt.ac.bd
SUMMARY:Training Programs on SPSS and Stata: October 16\, 2018 – November 17\, 2018
DESCRIPTION:ISRT is going to organize the regular training programs on SPSS and Stata from October 16\, 2018 to November 17\, 2018. The deadline for the registration is extended to October 16\, 2018 (Tuesday). Details can be found on the following link: http://www.isrt.ac.bd/training
URL:https://isrt.ac.bd/event/training-programs-on-spss-and-stata-october-16-2018-november-17-2018/
CATEGORIES:training
END:VEVENT
BEGIN:VEVENT
DTSTART;TZID=UTC:20180729T180000
DTEND;TZID=UTC:20180814T210000
DTSTAMP:20260425T041407
CREATED:20180611T200015Z
LAST-MODIFIED:20180729T103035Z
UID:2607-1532887200-1534280400@isrt.ac.bd
SUMMARY:Training program on R for Data Analytics
DESCRIPTION:ISRT is going to conduct an inaugural training program on R for students and professionals from July 29\, 2018. The program is known as R for Data Analytics. This would be the first training program of its kind offered from an academic institution in Bangladesh. R is a programming language and free software environment for statistical computing and graphics. The R language is widely used among statisticians and researchers in other fields for data analysis and developing statistical software. R is easily extensible through functions and extensions\, and the R community is noted for its active contributions in terms of packages. \nFor details visit www.isrt.ac.bd/training/r.
URL:https://isrt.ac.bd/event/training-program-on-r-and-data-analytics/
CATEGORIES:training
END:VEVENT
END:VCALENDAR