BEGIN:VCALENDAR
VERSION:2.0
PRODID:-//Institute of Statistical Research and Training - ECPv6.15.20//NONSGML v1.0//EN
CALSCALE:GREGORIAN
METHOD:PUBLISH
X-WR-CALNAME:Institute of Statistical Research and Training
X-ORIGINAL-URL:https://isrt.ac.bd
X-WR-CALDESC:Events for Institute of Statistical Research and Training
REFRESH-INTERVAL;VALUE=DURATION:PT1H
X-Robots-Tag:noindex
X-PUBLISHED-TTL:PT1H
BEGIN:VTIMEZONE
TZID:UTC
BEGIN:STANDARD
TZOFFSETFROM:+0000
TZOFFSETTO:+0000
TZNAME:UTC
DTSTART:20250101T000000
END:STANDARD
END:VTIMEZONE
BEGIN:VEVENT
DTSTART;TZID=UTC:20260305T120000
DTEND;TZID=UTC:20260305T133000
DTSTAMP:20260424T000025
CREATED:20260221T064222Z
LAST-MODIFIED:20260304T100223Z
UID:8957-1772712000-1772717400@isrt.ac.bd
SUMMARY:Applied Statistics and Data Science Seminar on Thursday 05 March 2026
DESCRIPTION:Title: FertiMeter: A Data-Driven Innovation to Address the Reproductive Health Crisis of Polycystic\nOvary Syndrome \nVenue\, date and time: ISRT\, 5 March 2026\, 12:15 pm \nSpeaker: K. M. Tanvir\, Lecturer\, ISRT\, University of Dhaka \nAbstract: \nBackground:\nPolycystic ovary syndrome (PCOS) affects around 12.5% of women in Bangladesh and is a major cause of infertility and pregnancy complications. Although early detection can help manage symptoms and reduce risks\, nearly 70% of women remain undiagnosed due to limited awareness and inadequate access\nto medical care.\nObjectives:\nThis study aims to develop a data-driven machine learning model that predicts the likelihood of PCOS using non-clinical features and to integrate it into a mobile application\, FertiMeter.\nMethods:\nA total of 546 participants\, including 273 women diagnosed with PCOS and 273 without PCOS\, were enrolled in the study. The CatBoost machine learning algorithm was applied to develop a predictive model for PCOS status and the model was incorporated into the FertiMeter mobile application.\nKey Findings:\nUsing eight SHAP-selected non-clinical features\, the CatBoost model achieved an average cross-validated accuracy of 86%.\nConclusions:\nApproximately 6.7 million women in Bangladesh who remain undiagnosed with PCOS can use FertiMeter mobile application to assess their likelihood of having the condition free of cost.
URL:https://isrt.ac.bd/event/applied-statistics-and-data-science-seminar-on-monday-23-february-2026/
CATEGORIES:seminar
END:VEVENT
END:VCALENDAR